BEGIN:VCALENDAR
VERSION:2.0
PRODID:-//Southampton Township Cumberland County Pennsylvania - ECPv6.13.0//NONSGML v1.0//EN
CALSCALE:GREGORIAN
METHOD:PUBLISH
X-WR-CALNAME:Southampton Township Cumberland County Pennsylvania
X-ORIGINAL-URL:https://southamptontwp.com
X-WR-CALDESC:Events for Southampton Township Cumberland County Pennsylvania
REFRESH-INTERVAL;VALUE=DURATION:PT1H
X-Robots-Tag:noindex
X-PUBLISHED-TTL:PT1H
BEGIN:VTIMEZONE
TZID:America/New_York
BEGIN:DAYLIGHT
TZOFFSETFROM:-0500
TZOFFSETTO:-0400
TZNAME:EDT
DTSTART:20190310T070000
END:DAYLIGHT
BEGIN:STANDARD
TZOFFSETFROM:-0400
TZOFFSETTO:-0500
TZNAME:EST
DTSTART:20191103T060000
END:STANDARD
BEGIN:DAYLIGHT
TZOFFSETFROM:-0500
TZOFFSETTO:-0400
TZNAME:EDT
DTSTART:20200308T070000
END:DAYLIGHT
BEGIN:STANDARD
TZOFFSETFROM:-0400
TZOFFSETTO:-0500
TZNAME:EST
DTSTART:20201101T060000
END:STANDARD
END:VTIMEZONE
BEGIN:VEVENT
DTSTART;TZID=America/New_York:20200619T180000
DTEND;TZID=America/New_York:20200619T200000
DTSTAMP:20260422T073118
CREATED:20200214T204449Z
LAST-MODIFIED:20200214T205304Z
UID:2541-1592589600-1592596800@southamptontwp.com
SUMMARY:STCC Father and Daughter Dance
DESCRIPTION:Please join us for a special night of celebrating Fathers and their daughters at the STCC Father Daughter Dance. Friday\, June 19th from 6 PM – 8 PM at the STCC Multi-Purpose Center. \nThe night will be filled with crafts\, snack\, games and dancing.\nAdmission for a Father & Daughter is $30. If you have more than one daughter\, the cost will be $5 per additional daughter. The price includes a corsage and boutonnière\, a 5×7 professional photograph and a special candy treat. \nTo purchase tickets\, stop by the STCC Park and Rec Office located at 56 Cleversburg Road\, Shippensburg\, PA.\nFor questions\, please call 717.532.6770 Ext. 111 or email parkandrec@southamptontwp.com \n  \nClick here for the Facebook Event.
URL:https://southamptontwp.com/twp-meetings/stcc-father-and-daughter-dance/
LOCATION:Cleversburg Multi-Purpose Center\, 256 Cleversburg Road\, Shippensburg\, PA\, 17257\, United States
CATEGORIES:Park & Rec Events
ORGANIZER;CN="STCC Park And Rec Dept":MAILTO:parkandrec@southamptontwp.com
END:VEVENT
BEGIN:VEVENT
DTSTART;TZID=America/New_York:20200508T180000
DTEND;TZID=America/New_York:20200508T200000
DTSTAMP:20260422T073118
CREATED:20200214T204254Z
LAST-MODIFIED:20200214T205031Z
UID:2536-1588960800-1588968000@southamptontwp.com
SUMMARY:STCC Mother and Son Soiree
DESCRIPTION:Please join us for a special night of celebrating Mothers and their sons at the STCC Mother and Son Soiree. Friday\, May 8th from 6 PM – 8 PM at the STCC Multi-Purpose Center. \nThe night will be filled with crafts\, snack\, games and dancing.\nAdmission for a Mother and Son is $30. If you have more than one son\, the cost will be $5 per additional son. The price includes a corsage and boutonnière\, a 5×7 professional photograph and a special candy treat. \nTo purchase tickets\, stop by the STCC Park and Rec Office located at 56 Cleversburg Road\, Shippensburg\, PA.\nFor questions\, please call 717.532.6770 Ext. 111 or email parkandrec@southamptontwp.com \n  \nClick here for the Facebook Event.
URL:https://southamptontwp.com/twp-meetings/stcc-mother-and-son-soiree/
LOCATION:Cleversburg Multi-Purpose Center\, 256 Cleversburg Road\, Shippensburg\, PA\, 17257\, United States
CATEGORIES:Park & Rec Events
ORGANIZER;CN="STCC Park And Rec Dept":MAILTO:parkandrec@southamptontwp.com
END:VEVENT
BEGIN:VEVENT
DTSTART;TZID=America/New_York:20200404T070000
DTEND;TZID=America/New_York:20200404T190000
DTSTAMP:20260422T073118
CREATED:20191224T155155Z
LAST-MODIFIED:20200214T204701Z
UID:2203-1585983600-1586026800@southamptontwp.com
SUMMARY:Bus to the Blossoms in Washington\, D.C.
DESCRIPTION:Bus to the Blossoms in Washington\, D.C. with the STCC Park and Rec Department on Saturday\, April 4th 🙂 \nThe bus will depart from the Multi-Purpose Center at 7 a.m. and arrive in D.C. at approximately 9 a.m. Just in time to save a spot for the National Cherry Blossom Parade at 10 a.m. OR you can enjoy your entire visit to the nation’s capital on your own.\nA $25 deposit is due by March 16 to reserve your seat. The remaining balance will be due by March 16th. \nDon’t miss a fun day with friends to kick of the spring season! \nClick here to see the Facebook event.
URL:https://southamptontwp.com/twp-meetings/bus-to-the-blossoms-in-washington-d-c/
LOCATION:Cleversburg Multi-Purpose Center\, 256 Cleversburg Road\, Shippensburg\, PA\, 17257\, United States
CATEGORIES:Park & Rec Events
ORGANIZER;CN="STCC Park And Rec Dept":MAILTO:parkandrec@southamptontwp.com
END:VEVENT
BEGIN:VEVENT
DTSTART;TZID=America/New_York:20200321T100000
DTEND;TZID=America/New_York:20200321T140000
DTSTAMP:20260422T073118
CREATED:20191120T204611Z
LAST-MODIFIED:20200317T142544Z
UID:1509-1584784800-1584799200@southamptontwp.com
SUMMARY:2020 St. Patty's Day 5k
DESCRIPTION:UPDATE!! The St. Patty’s Day 5k is postponed. Stay tuned for updates!  \n  \nATTENTION RUNNERS/WALKERS!!! The STCC 7th Annual St. Patty’s Day 5k will be held on Saturday\, March 21st 🙂 \nThe cost is $25 and includes a souvenir shirt. To secure a shirt\, registration is due March 6th. Same Day registration is $35 and starts at 9 a.m. Register online at www.timberhilltiming.com\nPlease contact the STCC Park and Rec Office for questions… 717.532.6770 Ext. 111 or via email at parkandrec@southamptontwp.com
URL:https://southamptontwp.com/twp-meetings/2020-st-pattys-day-5k/
LOCATION:Cleversburg Multi-Purpose Center\, 256 Cleversburg Road\, Shippensburg\, PA\, 17257\, United States
CATEGORIES:Park & Rec Events
ORGANIZER;CN="STCC Park And Rec Dept":MAILTO:parkandrec@southamptontwp.com
END:VEVENT
BEGIN:VEVENT
DTSTART;TZID=America/New_York:20200321T070000
DTEND;TZID=America/New_York:20200321T120000
DTSTAMP:20260422T073118
CREATED:20191120T204838Z
LAST-MODIFIED:20200120T204912Z
UID:1514-1584774000-1584792000@southamptontwp.com
SUMMARY:Joyce "Josie" Lynch Memorial Blood Drive
DESCRIPTION:Join the STCC Park and Rec for the Joyce “Josie” Lynch Memorial Blood drive on Saturday\, Mar. 21st. Central PA Blood Bank will be on site from 8 a.m. – 12 p.m. \nThe most important reason for becoming a regular donor is to meet the blood needs of our community. Donating blood may be one of the most important things you’ve ever done. It is a safe and easy process which takes approximately 45 minutes. \nEach day in Central Pennsylvania\, patients at area hospitals utilize between 275 to 300 units of blood and products derived from blood. Blood drives help to save and enhance the lives of these patients. \nQuestions…contact Kacy Englebrook at kenglebrook@cpbb.org \nhttps://www.facebook.com/events/556167061834244/
URL:https://southamptontwp.com/twp-meetings/1514/
LOCATION:Cleversburg Multi-Purpose Center\, 256 Cleversburg Road\, Shippensburg\, PA\, 17257\, United States
CATEGORIES:Park & Rec Events
ORGANIZER;CN="STCC Park And Rec Dept":MAILTO:parkandrec@southamptontwp.com
END:VEVENT
BEGIN:VEVENT
DTSTART;TZID=America/New_York:20200306T180000
DTEND;TZID=America/New_York:20200306T220000
DTSTAMP:20260422T073118
CREATED:20191120T211207Z
LAST-MODIFIED:20200214T203225Z
UID:1517-1583517600-1583532000@southamptontwp.com
SUMMARY:Hops & Humor Comedy Night with Earl David Reed
DESCRIPTION:Enjoy an adult night out at the STCC Multi-Purpose Center Friday\, March 6th with local favorite comedian Earl David Reed! \nEARL DAVID REED’S dynamic presence combined with his hard-driving wit\, and improvisational style delivers a performance that leaves radio and comedy audiences breathless and always wanting more. \nTaco Trap House will be on site serving dinner\, snacks\, etc. This will be a BYOB event 🍻🍷 \nPlease contact the STCC Park and Rec Office to purchase your ticket 🙂 \nEarl David Reed Facebook \n  \n \n 
URL:https://southamptontwp.com/twp-meetings/hops-humor-comedy-night-with-earl-david-reed/
LOCATION:Cleversburg Multi-Purpose Center\, 256 Cleversburg Road\, Shippensburg\, PA\, 17257\, United States
CATEGORIES:Park & Rec Events
ORGANIZER;CN="STCC Park And Rec Dept":MAILTO:parkandrec@southamptontwp.com
END:VEVENT
BEGIN:VEVENT
DTSTART;TZID=America/New_York:20200214T083000
DTEND;TZID=America/New_York:20200501T163000
DTSTAMP:20260422T073118
CREATED:20200214T204123Z
LAST-MODIFIED:20200214T204917Z
UID:2520-1581669000-1588350600@southamptontwp.com
SUMMARY:STCC Summer Camp Registration
DESCRIPTION:STCC Summer Camp registration will be open as of Monday\, February 3rd and will close Friday\, May 15th. Space is limited. \nCost for camp… STCC Residents: $400 | Non-Residents: $450. The registration form must be completed and submitted with a $200 non-refundable deposit. The remaining amount\, also nonrefundable\, will be due before the start of camp. No registration will be accepted without the deposit OR copy of the application submitted for a summer camp scholarship. The registration is for 10 weeks of Summer Camp. We only offer full time registration as we stayed fully staffed at all times to accommodate the needs of the families participating. Cash\, Check payable to Southampton Twp Cumberland Co or Credit/Debit Cards are accepted. Cards have a $3 fee up to $113. Anything over $113 is 2.65%. \nSTCC Summer Camp Facebook Event \n 
URL:https://southamptontwp.com/twp-meetings/stcc-summer-camp-registration/
LOCATION:Cleversburg Multi-Purpose Center\, 256 Cleversburg Road\, Shippensburg\, PA\, 17257\, United States
CATEGORIES:Park & Rec Events
ORGANIZER;CN="STCC Park And Rec Dept":MAILTO:parkandrec@southamptontwp.com
END:VEVENT
BEGIN:VEVENT
DTSTART;TZID=America/New_York:20200126T130000
DTEND;TZID=America/New_York:20200126T160000
DTSTAMP:20260422T073118
CREATED:20191120T204056Z
LAST-MODIFIED:20200106T162147Z
UID:1503-1580043600-1580054400@southamptontwp.com
SUMMARY:STCC Bridal Garage Sale
DESCRIPTION:STCC Park and Rec Department will be hosting the 3rd annual Bridal Garage Sale Sunday\, Jan. 26th from 1 PM – 4 PM.\n\n\nAre you a past Bride wondering what you will do with all the centerpieces\, place settings or pew bows now that your special day has past? Are you a business owner of a service that would compliment and assist the Bride and Groom with their special day? Here is a great opportunity to recycle them and help another bride make her day special as well. \n\n\nThe event will also have event vendors to join the fun such as… venues\, photographers\, disc jockeys\, florist\, etc. \n\n\nPlease contact the Park and Rec Office to reserve your space today!\n\n\nBooth registration fee is non-refundable.\n\n\nhttps://www.facebook.com/events/2413941982162764/\n\n2020 Bridal Garage Sale Application
URL:https://southamptontwp.com/twp-meetings/stcc-bridal-garage-sale/
LOCATION:Cleversburg Multi-Purpose Center\, 256 Cleversburg Road\, Shippensburg\, PA\, 17257\, United States
CATEGORIES:Park & Rec Events
ORGANIZER;CN="STCC Park And Rec Dept":MAILTO:parkandrec@southamptontwp.com
END:VEVENT
BEGIN:VEVENT
DTSTART;TZID=America/New_York:20200107T180000
DTEND;TZID=America/New_York:20200107T200000
DTSTAMP:20260422T073118
CREATED:20191224T170748Z
LAST-MODIFIED:20201207T183236Z
UID:2206-1578420000-1578427200@southamptontwp.com
SUMMARY:ON-SITE T-Ball\, Baseball and Softball Registration
DESCRIPTION:STCC Park and Rec has partnered with Shippensburg Area Little League for T-Ball\, Softball and Baseball! Registration is now open via the SALL website https://www.shippensburglittleleague.com/signup or you can visit us on-site at Doc Norcross Stadium (239\, 139 South Fayette Street\, Shippensburg\, PA) to register in person. \nLink To Registration Form \n 
URL:https://southamptontwp.com/twp-meetings/on-site-t-ball-baseball-and-softball-registration/
LOCATION:Doc Norcross Stadium\, 239\, 139 South Fayette Street\, Shippensburg\, PA\, 17257\, United States
CATEGORIES:Park & Rec Events
ATTACH;FMTTYPE=image/jpeg:https://southamptontwp.com/wp-content/uploads/2019/12/2020_STCC_SALL_PuzzleArt-e1577207224726.jpg
ORGANIZER;CN="STCC Park And Rec Dept":MAILTO:parkandrec@southamptontwp.com
END:VEVENT
BEGIN:VEVENT
DTSTART;TZID=America/New_York:20191214T090000
DTEND;TZID=America/New_York:20191214T130000
DTSTAMP:20260422T073118
CREATED:20190809T110238Z
LAST-MODIFIED:20191122T151711Z
UID:679-1576314000-1576328400@southamptontwp.com
SUMMARY:Holiday Marketplace
DESCRIPTION:We are now accepting applications for craft vendors\, direct sales representatives and food vendors. \n 
URL:https://southamptontwp.com/twp-meetings/holiday-marketplace/
LOCATION:Cleversburg Multi-Purpose Center\, 256 Cleversburg Road\, Shippensburg\, PA\, 17257\, United States
CATEGORIES:Park & Rec Events
ORGANIZER;CN="STCC Park And Rec Dept":MAILTO:parkandrec@southamptontwp.com
END:VEVENT
BEGIN:VEVENT
DTSTART;TZID=America/New_York:20191208T180000
DTEND;TZID=America/New_York:20191208T200000
DTSTAMP:20260422T073118
CREATED:20191121T182447Z
LAST-MODIFIED:20201207T183236Z
UID:1912-1575828000-1575835200@southamptontwp.com
SUMMARY:Shippensburg Band Holiday Concert
DESCRIPTION:Sunday\, Dec. 8th\, the Shippensburg Band will be performing a live holiday concert at the STCC Multi-Purpose Center located at 56 Cleversburg Road in Shippensburg\, PA. The show is open to the public. Start time 6 PM. Admission is FREE! The Shippensburg Band will also be hosting a canned food drive for the local food bank. \nPlease help to spread the word! We are looking forward to seeing you all then! \n  \nhttps://www.facebook.com/events/576852116403831/
URL:https://southamptontwp.com/twp-meetings/shippensburg-band-holiday-concert/
LOCATION:Cleversburg Multi-Purpose Center\, 256 Cleversburg Road\, Shippensburg\, PA\, 17257\, United States
CATEGORIES:Park & Rec Events
ORGANIZER;CN="STCC Park And Rec Dept":MAILTO:parkandrec@southamptontwp.com
END:VEVENT
BEGIN:VEVENT
DTSTART;TZID=America/New_York:20191207T060000
DTEND;TZID=America/New_York:20191207T230000
DTSTAMP:20260422T073118
CREATED:20190802T185504Z
LAST-MODIFIED:20190823T152142Z
UID:445-1575698400-1575759600@southamptontwp.com
SUMMARY:New York City Bus Trip
DESCRIPTION:Pick Up Location: STCC Multi-Purpose Center  56 Cleversburg Road \, Shippensburg\, Pa Departure Time: 6 a.m. – Return time: 11 p.m. \n$35 Deposit Is Due To Reserve Your Seat. \n2019 NYC Bus Trip Flyer \n 
URL:https://southamptontwp.com/twp-meetings/new-york-city-bus-trip/
LOCATION:The Big Applec\, New York
CATEGORIES:Park & Rec Events
ORGANIZER;CN="STCC Park And Rec Dept":MAILTO:parkandrec@southamptontwp.com
END:VEVENT
BEGIN:VEVENT
DTSTART;TZID=America/New_York:20191205T180000
DTEND;TZID=America/New_York:20191205T210000
DTSTAMP:20260422T073118
CREATED:20191025T153000Z
LAST-MODIFIED:20201207T183236Z
UID:1466-1575568800-1575579600@southamptontwp.com
SUMMARY:Buddy & Jovie String Art Class
DESCRIPTION:Join the STCC Park and Rec Department for a Buddy & Jovie String Art Class…PLUS Wine and Beer Tasting. Miss Cindy Swarner will be sharing her creative teaching abilities to help each of us create a beautiful masterpiece for our home. In addition to the stocking hanger\, there will be on site wine & beer tasting. This will be a super fun night you will not want to miss. Cost is $30 per person. A $15 non-refundable deposit is due to secure your spot. To make a reservations you can send the deposit or full payment to https://squareup.com/store/the-woods-in-three-square OR contact the STCC Park and Rec office at 717.532.6770 Ext. 111 | parkandrec@southamptontwp.com to pay with cash or check. Checks made payable to Cindy Swarner.
URL:https://southamptontwp.com/twp-meetings/buddy-jovie-string-art-class/
LOCATION:Cleversburg Multi-Purpose Center\, 256 Cleversburg Road\, Shippensburg\, PA\, 17257\, United States
CATEGORIES:Park & Rec Events
ORGANIZER;CN="STCC Park And Rec Dept":MAILTO:parkandrec@southamptontwp.com
END:VEVENT
BEGIN:VEVENT
DTSTART;TZID=America/New_York:20191116T080000
DTEND;TZID=America/New_York:20191116T170000
DTSTAMP:20260422T073118
CREATED:20190802T191049Z
LAST-MODIFIED:20190823T152213Z
UID:453-1573891200-1573923600@southamptontwp.com
SUMMARY:Wine Tasting Tour 2019
DESCRIPTION:Bus Departs at 8 a.m. from the Multi-Purpose Center 56 Cleversburg Road\, Shippensburg\, Pa \n2019 Wine Bus Trip Flyer
URL:https://southamptontwp.com/twp-meetings/wine-tasting-tour-2019/
LOCATION:Cleversburg Multi-Purpose Center\, 256 Cleversburg Road\, Shippensburg\, PA\, 17257\, United States
CATEGORIES:Park & Rec Events
ORGANIZER;CN="STCC Park And Rec Dept":MAILTO:parkandrec@southamptontwp.com
END:VEVENT
BEGIN:VEVENT
DTSTART;TZID=America/New_York:20191107T180000
DTEND;TZID=America/New_York:20191107T210000
DTSTAMP:20260422T073118
CREATED:20191025T132547Z
LAST-MODIFIED:20201207T183237Z
UID:1459-1573149600-1573160400@southamptontwp.com
SUMMARY:2019 Fall Craft Night
DESCRIPTION:Join the STCC Park and Rec Department for a Ladies’ Craft Night Out to make a Reversible Scarecrow & Snowman Sign PLUS Wine Tasting. Kristen Labuda will be sharing her creative teaching abilities to help each of us create a beautiful masterpiece for our home. In addition to the reversible sign\, there will be on site wine tasting. This will be a super fun night you will not want to miss. Cost is $45 per person. A $20 non-refundable deposit is to secure your spot. To make a reservations you can send the deposit or full payment via PayPal at paypal.me/KristenLaBuda OR contact the STCC Park and Rec office at 717.532.6770 Ext. 111 | parkandrec@southamptontwp.com to pay with cash or check. Checks made payable to Kristen Labuda. \n  \n 
URL:https://southamptontwp.com/twp-meetings/2019-fall-craft-night/
LOCATION:Cleversburg Multi-Purpose Center\, 256 Cleversburg Road\, Shippensburg\, PA\, 17257\, United States
CATEGORIES:Park & Rec Events
ORGANIZER;CN="STCC Park And Rec Dept":MAILTO:parkandrec@southamptontwp.com
END:VEVENT
BEGIN:VEVENT
DTSTART;TZID=America/New_York:20191024T160000
DTEND;TZID=America/New_York:20191024T190000
DTSTAMP:20260422T073118
CREATED:20190814T120854Z
LAST-MODIFIED:20201207T183238Z
UID:1147-1571932800-1571943600@southamptontwp.com
SUMMARY:Open Market
DESCRIPTION:Southampton Township Cumberland County’s Open Air Market is organized to help\nsupport local sustainable growers\, artists and entrepreneurs within a 60 mile radius\nof the market location. \nMarket is held rain or shine.\nThe Market WILL be open regular market hours on Memorial Day and Labor Day!\n\nThe Ship Market Website
URL:https://southamptontwp.com/twp-meetings/open-market-2019-10-24/
LOCATION:Southampton Township Park\, 200 Airport Road\, Shippensburg\, PA\, 17257\, United States
CATEGORIES:The Ship Market
ORGANIZER;CN="STCC Park And Rec Dept":MAILTO:parkandrec@southamptontwp.com
END:VEVENT
BEGIN:VEVENT
DTSTART;TZID=America/New_York:20190824T080000
DTEND;TZID=America/New_York:20190824T170000
DTSTAMP:20260422T073118
CREATED:20190802T191830Z
LAST-MODIFIED:20201207T183251Z
UID:458-1566633600-1566666000@southamptontwp.com
SUMMARY:Wiffle Mania 2019
DESCRIPTION:STCC Multi-Purpose Center Park 56 Cleversburg Road \, Shippensburg\, Pa \n 
URL:https://southamptontwp.com/twp-meetings/wiffle-mania-2019/
LOCATION:PA
CATEGORIES:Park & Rec Events
END:VEVENT
BEGIN:VEVENT
DTSTART;TZID=America/New_York:20190822T160000
DTEND;TZID=America/New_York:20190822T160000
DTSTAMP:20260422T073118
CREATED:20190814T120854Z
LAST-MODIFIED:20201207T183251Z
UID:731-1566489600-1566489600@southamptontwp.com
SUMMARY:Open Market
DESCRIPTION:Southampton Township Cumberland County’s Open Air Market is organized to help\nsupport local sustainable growers\, artists and entrepreneurs within a 60 mile radius\nof the market location. \nMarket is held rain or shine.\nThe Market WILL be open regular market hours on Memorial Day and Labor Day!\n\nThe Ship Market Website
URL:https://southamptontwp.com/twp-meetings/open-market/
LOCATION:Southampton Township Park\, 200 Airport Road\, Shippensburg\, PA\, 17257\, United States
CATEGORIES:The Ship Market
ORGANIZER;CN="STCC Park And Rec Dept":MAILTO:parkandrec@southamptontwp.com
END:VEVENT
END:VCALENDAR